BEGIN:VCALENDAR
PRODID:-//eluceo/ical//2.0/EN
VERSION:2.0
CALSCALE:GREGORIAN
BEGIN:VEVENT
UID:8e464d93375299a2c449d206aecedffa
DTSTAMP:20260421T000156Z
SUMMARY:Worcester Black Jewish Alliance Unity Seder 2021
DESCRIPTION:Jewish Federation of Central Massachusetts\nCalendar\nhttps://j
 ewishcentralmass.org/calendar/worcester-black-jewish-alliance-unity-seder-
 2021\n\nWorcester Black Jewish Alliance Unity Seder\n\nMarch 11\n\nTime: T
 BD. \n\nLocation: Virtual.\n 
DTSTART;TZID=America/New_York:20210311T180000
DTEND;TZID=America/New_York:20210311T210000
END:VEVENT
END:VCALENDAR
