BEGIN:VCALENDAR
PRODID:-//eluceo/ical//2.0/EN
VERSION:2.0
CALSCALE:GREGORIAN
BEGIN:VEVENT
UID:39d35254b1176fb1402ff3da7d7e9edc
DTSTAMP:20260423T214618Z
SUMMARY:Worcester Art Museum Neumann Exhibit Opening Program
DESCRIPTION:Jewish Federation of Central Massachusetts\nCalendar\nhttps://j
 ewishcentralmass.org/calendar/worcester-art-museum-neumann-exhibit-opening
 -program\n\nWorcester Art Museum Neumann Exhibit Opening Program - Time TB
 D.
DTSTART;TZID=America/New_York:20210410T120000
DTEND;TZID=America/New_York:20210410T200000
END:VEVENT
END:VCALENDAR
