BEGIN:VCALENDAR
PRODID:-//eluceo/ical//2.0/EN
VERSION:2.0
CALSCALE:GREGORIAN
BEGIN:VEVENT
UID:911dfcfc8dd72b2d9b338b10d49682ae
DTSTAMP:20260422T032216Z
SUMMARY:WooSox Jewish Heritage Day 2026
DESCRIPTION:Jewish Federation of Central Massachusetts\nCalendar\nhttps://j
 ewishcentralmass.org/calendar/woosox-jewish-heritage-day-2026\n\nWooSox Je
 wish Heritage Day\n\nJune 28\, 2026\n\nTime: TBA
DTSTART;TZID=America/New_York:20260628T140000
DTEND;TZID=America/New_York:20260628T160000
END:VEVENT
END:VCALENDAR
