BEGIN:VCALENDAR
PRODID:-//eluceo/ical//2.0/EN
VERSION:2.0
CALSCALE:GREGORIAN
BEGIN:VEVENT
UID:0dbbb2530aa40d3438db36a03538b375
DTSTAMP:20260424T044238Z
SUMMARY:Women's Division Program
DESCRIPTION:Jewish Federation of Central Massachusetts\nCalendar\nhttps://j
 ewishcentralmass.org/calendar/womens-division-program\n\nWomen's Division 
 Program of Federation
DTSTART;TZID=America/New_York:20170301T190000
DTEND;TZID=America/New_York:20170301T213000
END:VEVENT
END:VCALENDAR
