BEGIN:VCALENDAR
PRODID:-//eluceo/ical//2.0/EN
VERSION:2.0
CALSCALE:GREGORIAN
BEGIN:VEVENT
UID:c6d81187573b5b010d4db5d2a71e7bce
DTSTAMP:20260425T004435Z
SUMMARY:WJCIA [JFCM] Meeting
DESCRIPTION:Jewish Federation of Central Massachusetts\nCalendar\nhttps://j
 ewishcentralmass.org/calendar/wjcia-jfcm-meeting\n\nJanuary 12 WJCIA [JFCM
 ] Meeting 10AM
DTSTART;TZID=America/New_York:20200112T100000
DTEND;TZID=America/New_York:20200112T120000
END:VEVENT
END:VCALENDAR
