BEGIN:VCALENDAR
PRODID:-//eluceo/ical//2.0/EN
VERSION:2.0
CALSCALE:GREGORIAN
BEGIN:VEVENT
UID:8f963f10ce96662457fee4c008961ae8
DTSTAMP:20260420T184600Z
SUMMARY:Without an Evil Eye - CMJTC Production
DESCRIPTION:Jewish Federation of Central Massachusetts\nCalendar\nhttps://j
 ewishcentralmass.org/calendar/without-an-evil-eye-cmjt\n\n“Without an Ev
 il Eye” Sunday\, April 27\, 2025 - Time:  2pm and 8pm
DTSTART;TZID=America/New_York:20250427T140000
DTEND;TZID=America/New_York:20250427T200000
END:VEVENT
END:VCALENDAR
