BEGIN:VCALENDAR
PRODID:-//eluceo/ical//2.0/EN
VERSION:2.0
CALSCALE:GREGORIAN
BEGIN:VEVENT
UID:a3f142d1fbd1ef1cab5d7d8f69d3966b
DTSTAMP:20260422T205227Z
SUMMARY:Winter Concer
DESCRIPTION:Jewish Federation of Central Massachusetts\nCalendar\nhttps://j
 ewishcentralmass.org/calendar/winter-concer\n\nShir Joy
DTSTART;TZID=America/New_York:20130202T190000
DTEND;TZID=America/New_York:20130202T203000
END:VEVENT
END:VCALENDAR
