BEGIN:VCALENDAR
PRODID:-//eluceo/ical//2.0/EN
VERSION:2.0
CALSCALE:GREGORIAN
BEGIN:VEVENT
UID:a4b150a68664b6239dfb270fbbfdc88a
DTSTAMP:20260420T202206Z
SUMMARY:Wine & Whiskey Tasting Fundraiser
DESCRIPTION:Jewish Federation of Central Massachusetts\nCalendar\nhttps://j
 ewishcentralmass.org/calendar/wine-whiskey-tasting-fundraiser\n\nGreater B
 oroughs Hadassah invites you to a Wine and Whiskey Tasting Fundraiser on
  May 6 at Julio's Liquors\; 140 Turnpike Road\, Westborough\, MA\n\n$36pp 
 - RSVP to hadassahboroughsmembers@gmail.com
DTSTART;TZID=America/New_York:20170506T193000
DTEND;TZID=America/New_York:20170506T213000
END:VEVENT
END:VCALENDAR
