BEGIN:VCALENDAR
PRODID:-//eluceo/ical//2.0/EN
VERSION:2.0
CALSCALE:GREGORIAN
BEGIN:VEVENT
UID:4f63f18213b84c9ef95ba3c723f8c8f0
DTSTAMP:20260423T133623Z
SUMMARY:Wine Tasting with Dolev at BI
DESCRIPTION:Jewish Federation of Central Massachusetts\nCalendar\nhttps://j
 ewishcentralmass.org/calendar/wine-tasting-with-dolev-at-bi\n\nSaturday\, 
 April 13th\n\n12pm -2pm \n\nWine tasting with Dolev and Dan Shertzer at BI
DTSTART;TZID=America/New_York:20240413T120000
DTEND;TZID=America/New_York:20240413T140000
END:VEVENT
END:VCALENDAR
