BEGIN:VCALENDAR
PRODID:-//eluceo/ical//2.0/EN
VERSION:2.0
CALSCALE:GREGORIAN
BEGIN:VEVENT
UID:4da7ac87341511bbac3738f299e8a267
DTSTAMP:20260421T234323Z
SUMMARY:Western New England Region of Hadassah Board Meeting
DESCRIPTION:Jewish Federation of Central Massachusetts\nCalendar\nhttps://j
 ewishcentralmass.org/calendar/western-new-england-region-of-hadassah-board
 -meeting\n\nBoard meeting
DTSTART;TZID=America/New_York:20150111T103000
DTEND;TZID=America/New_York:20150111T140000
END:VEVENT
END:VCALENDAR
