BEGIN:VCALENDAR
PRODID:-//eluceo/ical//2.0/EN
VERSION:2.0
CALSCALE:GREGORIAN
BEGIN:VEVENT
UID:80d0c5c7eebd1c5aedbd9c478f27fce5
DTSTAMP:20260422T030139Z
SUMMARY:Welcome Back Chaverim Havdalah and Dinner
DESCRIPTION:Jewish Federation of Central Massachusetts\nCalendar\nhttps://j
 ewishcentralmass.org/calendar/welcome-back-chaverim-havdalah-and-dinner\n\
 nWelcome Back Chaverim Havdalah and Dinner\n\nSaturday\, June 19 at 7:00 p
 m 
DTSTART;TZID=America/New_York:20210619T190000
DTEND;TZID=America/New_York:20210619T210000
END:VEVENT
END:VCALENDAR
