BEGIN:VCALENDAR
PRODID:-//eluceo/ical//2.0/EN
VERSION:2.0
CALSCALE:GREGORIAN
BEGIN:VEVENT
UID:20685a971162795bc7fba84a695512db
DTSTAMP:20260421T073639Z
SUMMARY:Warsaw Ghetto Uprising Flag Raising
DESCRIPTION:Jewish Federation of Central Massachusetts\nCalendar\nhttps://j
 ewishcentralmass.org/calendar/warsaw-ghetto-uprising-flag-raising\n\nThurs
 day\, April 28\n\nWarsaw Ghetto Uprising Flag Raising \n\nWorcester City 
 Hall at 5:30 pm\nLed by Worcester City Council Rep. Moe Bergman
DTSTART;TZID=America/New_York:20220428T173000
DTEND;TZID=America/New_York:20220428T183000
END:VEVENT
END:VCALENDAR
