BEGIN:VCALENDAR
PRODID:-//eluceo/ical//2.0/EN
VERSION:2.0
CALSCALE:GREGORIAN
BEGIN:VEVENT
UID:33a1efcbc5d7b98d45f2ca2e064e47d2
DTSTAMP:20260425T115103Z
SUMMARY:Walk for the Homeless with TES 2024
DESCRIPTION:Jewish Federation of Central Massachusetts\nCalendar\nhttps://j
 ewishcentralmass.org/calendar/walk-for-the-homeless-with-tes-2024\n\nWalk 
 for the Homeless with TES\n\nElm Park\, Worcester\n\n12:00 pm - Registrati
 on\n\n2:00 pm - 5K Walk begins
DTSTART;TZID=America/New_York:20240519T120000
DTEND;TZID=America/New_York:20240519T160000
END:VEVENT
END:VCALENDAR
