BEGIN:VCALENDAR
PRODID:-//eluceo/ical//2.0/EN
VERSION:2.0
CALSCALE:GREGORIAN
BEGIN:VEVENT
UID:2ba60fd47eb0ce476311b5e34a474978
DTSTAMP:20260424T012429Z
SUMMARY:VOLUNTEERS NEEDED - American Flags
DESCRIPTION:Jewish Federation of Central Massachusetts\nCalendar\nhttps://j
 ewishcentralmass.org/calendar/volunteers-needed-american-flags\n\nVOLUNTEE
 RS NEEDED - American Flags\n\nIn honor of Memorial Day\, Worcester Jewish 
 War Veteran's Post 52 is once again paying tribute to those who have serve
 d our country.  American flags will be placed at each veteran's grave in 
 B'nai Brith\, Hebrew\, and Chevra Kadisha Cemeteries.\n\nSunday May 19\, 2
 024.  Starting 9:00 AM at B'nai Brith Cemetery.\n\nIf you are interested 
 in volunteering to place these flags\, please let us know by contacting Mi
 chele at 508-414-1252.
DTSTART;TZID=America/New_York:20240519T090000
DTEND;TZID=America/New_York:20240519T120000
END:VEVENT
END:VCALENDAR
