BEGIN:VCALENDAR
PRODID:-//eluceo/ical//2.0/EN
VERSION:2.0
CALSCALE:GREGORIAN
BEGIN:VEVENT
UID:bbacf315edb1f34d107623f1eea24cb1
DTSTAMP:20260422T171746Z
SUMMARY:BI Virtual Concert with Neshama Carlebach
DESCRIPTION:Jewish Federation of Central Massachusetts\nCalendar\nhttps://j
 ewishcentralmass.org/calendar/virtual-concert-with-neshama-carlebach\n\nDe
 cember 12th at 6:30PM\n\nBI Virtual Concert with Neshama Carlebach
DTSTART;TZID=America/New_York:20201212T183000
DTEND;TZID=America/New_York:20201212T203000
END:VEVENT
END:VCALENDAR
