BEGIN:VCALENDAR
PRODID:-//eluceo/ical//2.0/EN
VERSION:2.0
CALSCALE:GREGORIAN
BEGIN:VEVENT
UID:c3afe8083477cc9820767b94748955e3
DTSTAMP:20260422T225318Z
SUMMARY:Tu B'Shevat 5785
DESCRIPTION:Jewish Federation of Central Massachusetts\nCalendar\nhttps://j
 ewishcentralmass.org/calendar/tu-bshevat-5785\n\nTu B'Shevat
DTSTART;TZID=America/New_York:20250213T000000
DTEND;TZID=America/New_York:20250213T235959
END:VEVENT
END:VCALENDAR
