BEGIN:VCALENDAR
PRODID:-//eluceo/ical//2.0/EN
VERSION:2.0
CALSCALE:GREGORIAN
BEGIN:VEVENT
UID:19d1c7b82a3a77b610c95fdfb835355c
DTSTAMP:20260422T041357Z
SUMMARY:Israel Bonds\, Exodus 47 event
DESCRIPTION:Jewish Federation of Central Massachusetts\nCalendar\nhttps://j
 ewishcentralmass.org/calendar/tree-planting-at-elm-park-in-honor-of-exodus
 -47\n\nIsrael Bonds\, Exodus 47 event\n\nJULY 22\, 2021 at 7:00 PM\,\n\nAt
  the Jewish Community Center\, 633 Salisbury St.\, Worcester.\n\n\nPlease 
 contact Jewish Federation at (508) 756-1543 for more information or visit 
 JFCM.org/exodus to RSVP. 
DTSTART;TZID=America/New_York:20210722T190000
DTEND;TZID=America/New_York:20210722T210000
END:VEVENT
END:VCALENDAR
