BEGIN:VCALENDAR
PRODID:-//eluceo/ical//2.0/EN
VERSION:2.0
CALSCALE:GREGORIAN
BEGIN:VEVENT
UID:78d1a36a73e86988abb6f89eed04125b
DTSTAMP:20260423T124939Z
SUMMARY:Transforming Friday Night into Shabbat: The Hows and Whys
DESCRIPTION:Jewish Federation of Central Massachusetts\nCalendar\nhttps://j
 ewishcentralmass.org/calendar/transforming-friday-night-into-shabbat-the-h
 ows-and-whys\n\nTuesday\, February 27th\, 7:30 pm\n\nTransforming Friday N
 ight into Shabbat: The Hows and Whys (Zoom option avail)\n\nRabbi Yaakov B
 lotner Shaarai Torah West\, Worcester\n\nRSVP: Lamplighters18@gmail.com
DTSTART;TZID=America/New_York:20240227T193000
DTEND;TZID=America/New_York:20240227T213000
END:VEVENT
END:VCALENDAR
