BEGIN:VCALENDAR
PRODID:-//eluceo/ical//2.0/EN
VERSION:2.0
CALSCALE:GREGORIAN
BEGIN:VEVENT
UID:ee527807692529b1e724512df645c2de
DTSTAMP:20260424T081337Z
SUMMARY:Torathon 2022
DESCRIPTION:Jewish Federation of Central Massachusetts\nCalendar\nhttps://j
 ewishcentralmass.org/calendar/torathon-2022\n\nTorathon 2022
DTSTART;TZID=America/New_York:20221119T190000
DTEND;TZID=America/New_York:20221119T210000
END:VEVENT
END:VCALENDAR
