BEGIN:VCALENDAR
PRODID:-//eluceo/ical//2.0/EN
VERSION:2.0
CALSCALE:GREGORIAN
BEGIN:VEVENT
UID:3d6fbb7245b52178c767b06b4bb6e982
DTSTAMP:20260423T014927Z
SUMMARY:Torah Center - Summer Soul Trip to New York
DESCRIPTION:Jewish Federation of Central Massachusetts\nCalendar\nhttps://j
 ewishcentralmass.org/calendar/torah-center-summer-soul-trip-to-new-york\n\
 nTorah Center - Summer Soul Trip to New York
DTSTART;TZID=America/New_York:20210808T090000
DTEND;TZID=America/New_York:20210808T200000
END:VEVENT
END:VCALENDAR
