BEGIN:VCALENDAR
PRODID:-//eluceo/ical//2.0/EN
VERSION:2.0
CALSCALE:GREGORIAN
BEGIN:VEVENT
UID:5b689c632ce88e95eb975f1972578571
DTSTAMP:20260423T150924Z
SUMMARY:Torah Center - Chanukah Lighting at Worcester Common
DESCRIPTION:Jewish Federation of Central Massachusetts\nCalendar\nhttps://j
 ewishcentralmass.org/calendar/torah-center-chanukah-lighting-at-worcester-
 common\n\nTorah Center - Chanukah Lighting at Worcester Common
DTSTART;TZID=America/New_York:20211130T180000
DTEND;TZID=America/New_York:20211130T200000
END:VEVENT
END:VCALENDAR
