BEGIN:VCALENDAR
PRODID:-//eluceo/ical//2.0/EN
VERSION:2.0
CALSCALE:GREGORIAN
BEGIN:VEVENT
UID:486c8ce0a68df9a75da6c0ef7bec19a0
DTSTAMP:20260423T080542Z
SUMMARY:Torah Center - Chanukah Lighting at Canal District
DESCRIPTION:Jewish Federation of Central Massachusetts\nCalendar\nhttps://j
 ewishcentralmass.org/calendar/torah-center-chanukah-lighting-at-canal-dist
 rict\n\nTorah Center - Chanukah Lighting at Canal District
DTSTART;TZID=America/New_York:20211201T180000
DTEND;TZID=America/New_York:20211201T200000
END:VEVENT
END:VCALENDAR
