BEGIN:VCALENDAR
PRODID:-//eluceo/ical//2.0/EN
VERSION:2.0
CALSCALE:GREGORIAN
BEGIN:VEVENT
UID:fd0677ad861a9972b19489ce5f59a5bc
DTSTAMP:20260425T001418Z
SUMMARY:Thomas Friedman - virtual event evening program
DESCRIPTION:Jewish Federation of Central Massachusetts\nCalendar\nhttps://j
 ewishcentralmass.org/calendar/thomas-friedman-virtual-event-evening-progra
 m\n\nJoin us in a nationwide program with other Federations to hear from 
 columnist Thomas Friedman.
DTSTART;TZID=America/New_York:20220410T170000
DTEND;TZID=America/New_York:20220410T200000
END:VEVENT
END:VCALENDAR
