BEGIN:VCALENDAR
PRODID:-//eluceo/ical//2.0/EN
VERSION:2.0
CALSCALE:GREGORIAN
BEGIN:VEVENT
UID:c54a717a7e0a39ccc1f5244f15e8044b
DTSTAMP:20260420T103101Z
SUMMARY:The Future of God: The Merging of Science & Religion with Andrew Zo
 lli and 
DESCRIPTION:Jewish Federation of Central Massachusetts\nCalendar\nhttps://j
 ewishcentralmass.org/calendar/the-future-of-god-the-merging-of-science--re
 ligion-with-andrew-zolli-and-david-eagleman-reza-aslan\n\n92nd St Y Live
DTSTART;TZID=America/New_York:20130414T201500
DTEND;TZID=America/New_York:20130414T204500
END:VEVENT
END:VCALENDAR
