BEGIN:VCALENDAR
PRODID:-//eluceo/ical//2.0/EN
VERSION:2.0
CALSCALE:GREGORIAN
BEGIN:VEVENT
UID:a11903d504a6ffeb674422f1e59e5795
DTSTAMP:20260421T022346Z
SUMMARY:The Bands Visit at Hanover with JFCM - evening
DESCRIPTION:Jewish Federation of Central Massachusetts\nCalendar\nhttps://j
 ewishcentralmass.org/calendar/the-bands-visit-at-hanover-with-jfcm-evening
 \n\nNov 14 at 6:30pm \n\nThe Bands Visit at Hanover with JFCM
DTSTART;TZID=America/New_York:20211114T183000
DTEND;TZID=America/New_York:20211114T203000
END:VEVENT
END:VCALENDAR
