BEGIN:VCALENDAR
PRODID:-//eluceo/ical//2.0/EN
VERSION:2.0
CALSCALE:GREGORIAN
BEGIN:VEVENT
UID:f12f80d72a8ff6795aa2a61bb63306a1
DTSTAMP:20260422T012638Z
SUMMARY:The Bands Visit at Hanover with JFCM
DESCRIPTION:Jewish Federation of Central Massachusetts\nCalendar\nhttps://j
 ewishcentralmass.org/calendar/the-bands-visit-at-hanover-with-jfcm\n\nNov 
 14 at 1pm \n\nThe Bands Visit at Hanover with JFCM
DTSTART;TZID=America/New_York:20211114T130000
DTEND;TZID=America/New_York:20211114T150000
END:VEVENT
END:VCALENDAR
