BEGIN:VCALENDAR
PRODID:-//eluceo/ical//2.0/EN
VERSION:2.0
CALSCALE:GREGORIAN
BEGIN:VEVENT
UID:d95a68e4a660eca41530bf3d8ef8a099
DTSTAMP:20260423T104149Z
SUMMARY:The Art of Challah Braiding
DESCRIPTION:Jewish Federation of Central Massachusetts\nCalendar\nhttps://j
 ewishcentralmass.org/calendar/the-art-of-challah-braiding\n\nSunday\, Marc
 h 3rd\, 11:00 am\n\nThe Art of Challah Braiding\n\nRabbi Eve Eichenholtz C
 ongregation Agudat Achim\, Leominster\n\nRSVP: office@agudat-achim.org
DTSTART;TZID=America/New_York:20240303T110000
DTEND;TZID=America/New_York:20240303T130000
END:VEVENT
END:VCALENDAR
