BEGIN:VCALENDAR
PRODID:-//eluceo/ical//2.0/EN
VERSION:2.0
CALSCALE:GREGORIAN
BEGIN:VEVENT
UID:1be52304fc06104b89d79240c633047a
DTSTAMP:20260423T092823Z
SUMMARY:Thanksgiving
DESCRIPTION:Jewish Federation of Central Massachusetts\nCalendar\nhttps://j
 ewishcentralmass.org/calendar/thanksgiving_\n\nThanksgiving
DTSTART;TZID=America/New_York:20341130T000000
DTEND;TZID=America/New_York:20341130T235959
END:VEVENT
END:VCALENDAR
