BEGIN:VCALENDAR
PRODID:-//eluceo/ical//2.0/EN
VERSION:2.0
CALSCALE:GREGORIAN
BEGIN:VEVENT
UID:f573ae223a8e7112d7b168ba720d27b3
DTSTAMP:20260421T215739Z
SUMMARY:THANKSGIVING
DESCRIPTION:Jewish Federation of Central Massachusetts\nCalendar\nhttps://j
 ewishcentralmass.org/calendar/thanksgiving\n\nTHANKSGIVING
DTSTART;TZID=America/New_York:20131128T000000
DTEND;TZID=America/New_York:20131128T235900
END:VEVENT
END:VCALENDAR
