BEGIN:VCALENDAR
PRODID:-//eluceo/ical//2.0/EN
VERSION:2.0
CALSCALE:GREGORIAN
BEGIN:VEVENT
UID:5cb42a14803b7814f33339411a107524
DTSTAMP:20260422T020653Z
SUMMARY:TGIF (Parasha Study) with Rabbi Fellman & Tot Shabbat
DESCRIPTION:Jewish Federation of Central Massachusetts\nCalendar\nhttps://j
 ewishcentralmass.org/calendar/tgif-parasha-study-with-rabbi-fellman-tot-sh
 abbat\n\nTGIF (Parasha Study) with Rabbi Fellman at 10:00 a.m.\n\n     
            Tot Shabbat @ 10:00 a.m.\n\nTo get more information\, incl
 uding log in info\, contact the Beth Israel office at 508-756-6204.
DTSTART;TZID=America/New_York:20200515T100000
DTEND;TZID=America/New_York:20200515T120000
END:VEVENT
END:VCALENDAR
