BEGIN:VCALENDAR
PRODID:-//eluceo/ical//2.0/EN
VERSION:2.0
CALSCALE:GREGORIAN
BEGIN:VEVENT
UID:afadee67731eb200959f6ec64f3c64eb
DTSTAMP:20260423T044032Z
SUMMARY:TES - YE Service
DESCRIPTION:Jewish Federation of Central Massachusetts\nCalendar\nhttps://j
 ewishcentralmass.org/calendar/tes-ye-service\n\nTES - YE Service at 6:30pm
  
DTSTART;TZID=America/New_York:20211015T183000
DTEND;TZID=America/New_York:20211015T203000
END:VEVENT
END:VCALENDAR
