BEGIN:VCALENDAR
PRODID:-//eluceo/ical//2.0/EN
VERSION:2.0
CALSCALE:GREGORIAN
BEGIN:VEVENT
UID:76df65dc42e9fdf97425367a63f5e8cc
DTSTAMP:20260422T012818Z
SUMMARY:TES Tu B'Shevat Program
DESCRIPTION:Jewish Federation of Central Massachusetts\nCalendar\nhttps://j
 ewishcentralmass.org/calendar/tes-tu-bshevat-program\n\nTES Tu B'Shevat Pr
 ogram\n\nTime: TBD
DTSTART;TZID=America/New_York:20230206T190000
DTEND;TZID=America/New_York:20230206T210000
END:VEVENT
END:VCALENDAR
