BEGIN:VCALENDAR
PRODID:-//eluceo/ical//2.0/EN
VERSION:2.0
CALSCALE:GREGORIAN
BEGIN:VEVENT
UID:aeca04bd7683f43e68cf46f14d2e9ec3
DTSTAMP:20260423T031922Z
SUMMARY:TES - Torah Study
DESCRIPTION:Jewish Federation of Central Massachusetts\nCalendar\nhttps://j
 ewishcentralmass.org/calendar/tes-torah-study\n\nSaturday\, June 3 at 10:3
 0 am Torah Study “The Four-Fold Song: Exploring Our Multiple Connections
 .” 
DTSTART;TZID=America/New_York:20170603T103000
DTEND;TZID=America/New_York:20170603T120000
END:VEVENT
END:VCALENDAR
