BEGIN:VCALENDAR
PRODID:-//eluceo/ical//2.0/EN
VERSION:2.0
CALSCALE:GREGORIAN
BEGIN:VEVENT
UID:8f8d0858ed5d97fd0600909c5fdbcc23
DTSTAMP:20260421T130000Z
SUMMARY:TES - Summer Institute 2024
DESCRIPTION:Jewish Federation of Central Massachusetts\nCalendar\nhttps://j
 ewishcentralmass.org/calendar/tes-summer-institute-2024\n\nTES - Summer In
 stitute \n\nFridays at 7:30 pm during Shabbat Services\n\nIn person at TE
 S or online at http://emanuelsinai.org/live-streams
DTSTART;TZID=America/New_York:20240712T193000
DTEND;TZID=America/New_York:20240712T213000
END:VEVENT
END:VCALENDAR
