BEGIN:VCALENDAR
PRODID:-//eluceo/ical//2.0/EN
VERSION:2.0
CALSCALE:GREGORIAN
BEGIN:VEVENT
UID:64ecf0f08d30bccc802842864fbc62f0
DTSTAMP:20260421T075432Z
SUMMARY:TES Simchat Torah Festival
DESCRIPTION:Jewish Federation of Central Massachusetts\nCalendar\nhttps://j
 ewishcentralmass.org/calendar/tes-simchat-torah-festival\n\nTES Simchat To
 rah Festival\n\n7:30 - 8:30 pm
DTSTART;TZID=America/New_York:20241023T193000
DTEND;TZID=America/New_York:20241023T203000
END:VEVENT
END:VCALENDAR
