BEGIN:VCALENDAR
PRODID:-//eluceo/ical//2.0/EN
VERSION:2.0
CALSCALE:GREGORIAN
BEGIN:VEVENT
UID:1bcd5e671dbb5cc5f301e84944382284
DTSTAMP:20260423T233347Z
SUMMARY:TES - Shabbat Morning Service
DESCRIPTION:Jewish Federation of Central Massachusetts\nCalendar\nhttps://j
 ewishcentralmass.org/calendar/tes-shabbat-morning-service\n\nSaturday\, Ju
 ne 3 at 9:00 am Shabbat Morning Service with Rabbi Natan Margalit “Kulam
  B’Chochma Asita – Everything You Made with Wisdom!” and optional me
 ditative nature walk
DTSTART;TZID=America/New_York:20170603T090000
DTEND;TZID=America/New_York:20170603T100000
END:VEVENT
END:VCALENDAR
