BEGIN:VCALENDAR
PRODID:-//eluceo/ical//2.0/EN
VERSION:2.0
CALSCALE:GREGORIAN
BEGIN:VEVENT
UID:b2209b88718be971882b2635e0d0b8ee
DTSTAMP:20260422T092311Z
SUMMARY:TES - Second Seder
DESCRIPTION:Jewish Federation of Central Massachusetts\nCalendar\nhttps://j
 ewishcentralmass.org/calendar/tes-second-seder\n\nTES - Second Seder
DTSTART;TZID=America/New_York:20220416T180000
DTEND;TZID=America/New_York:20220416T200000
END:VEVENT
END:VCALENDAR
