BEGIN:VCALENDAR
PRODID:-//eluceo/ical//2.0/EN
VERSION:2.0
CALSCALE:GREGORIAN
BEGIN:VEVENT
UID:db2666e77b146ebded6951b459420d41
DTSTAMP:20260424T040834Z
SUMMARY:TES -Scholar in Residence Weekend
DESCRIPTION:Jewish Federation of Central Massachusetts\nCalendar\nhttps://j
 ewishcentralmass.org/calendar/tes-scholar-in-residence\n\nTES -Scholar in 
 Residence Weekend with Dr. Betsy Stone\, Ph.D.\n\n12/1 - 7:30 pm Shabbat S
 ervices at TES\n\n12/2 - 10:00 am Discussion at Worcester JCC
DTSTART;TZID=America/New_York:20231201T193000
DTEND;TZID=America/New_York:20231202T120000
END:VEVENT
END:VCALENDAR
