BEGIN:VCALENDAR
PRODID:-//eluceo/ical//2.0/EN
VERSION:2.0
CALSCALE:GREGORIAN
BEGIN:VEVENT
UID:3513321262184b1297d570df99f6b22e
DTSTAMP:20260421T005304Z
SUMMARY:TES Religion School Starts
DESCRIPTION:Jewish Federation of Central Massachusetts\nCalendar\nhttps://j
 ewishcentralmass.org/calendar/tes-religion-school-starts\n\nTES Religion S
 chool Starts\n\n9:00 am - 12:00 pm
DTSTART;TZID=America/New_York:20240928T090000
DTEND;TZID=America/New_York:20240928T120000
END:VEVENT
END:VCALENDAR
