BEGIN:VCALENDAR
PRODID:-//eluceo/ical//2.0/EN
VERSION:2.0
CALSCALE:GREGORIAN
BEGIN:VEVENT
UID:26852404a78daa4c2accda90e60b5472
DTSTAMP:20260421T222827Z
SUMMARY:TES Purim Carnival 5785
DESCRIPTION:Jewish Federation of Central Massachusetts\nCalendar\nhttps://j
 ewishcentralmass.org/calendar/tes-purim-carnival-5785\n\nTES Purim Carniva
 l\n\n11:00 am
DTSTART;TZID=America/New_York:20250315T110000
DTEND;TZID=America/New_York:20250315T130000
END:VEVENT
END:VCALENDAR
