BEGIN:VCALENDAR
PRODID:-//eluceo/ical//2.0/EN
VERSION:2.0
CALSCALE:GREGORIAN
BEGIN:VEVENT
UID:a09ec01ac08c529aeceff9faa719f60c
DTSTAMP:20260424T161411Z
SUMMARY:TES - Purim Carnival 2022
DESCRIPTION:Jewish Federation of Central Massachusetts\nCalendar\nhttps://j
 ewishcentralmass.org/calendar/tes-purim-carnival-2022\n\nTES Purim Carniva
 l
DTSTART;TZID=America/New_York:20220316T190000
DTEND;TZID=America/New_York:20220316T210000
END:VEVENT
END:VCALENDAR
