BEGIN:VCALENDAR
PRODID:-//eluceo/ical//2.0/EN
VERSION:2.0
CALSCALE:GREGORIAN
BEGIN:VEVENT
UID:f6f78af77f70334d8e6f0972e761d5bd
DTSTAMP:20260422T001432Z
SUMMARY:TES Purim and Carnival 2024
DESCRIPTION:Jewish Federation of Central Massachusetts\nCalendar\nhttps://j
 ewishcentralmass.org/calendar/tes-purim-and-carnival-2024\n\nTES Purim and
  Carnival\n\n11:00 am - 2:00 pm
DTSTART;TZID=America/New_York:20240323T110000
DTEND;TZID=America/New_York:20240323T140000
END:VEVENT
END:VCALENDAR
