BEGIN:VCALENDAR
PRODID:-//eluceo/ical//2.0/EN
VERSION:2.0
CALSCALE:GREGORIAN
BEGIN:VEVENT
UID:5b9fb80e35fb323daa1672ce33658fff
DTSTAMP:20260423T103931Z
SUMMARY:TES Program: Mark Epstein\, author of They Call Me Pathfinder
DESCRIPTION:Jewish Federation of Central Massachusetts\nCalendar\nhttps://j
 ewishcentralmass.org/calendar/tes-program-mark-epstein-author-of-they-call
 -me-pathfinder\n\nSunday\, Jan. 9 at 10:00 a.m.: Mark Epstein\, Worcester 
 native and author of They Call Me Pathfinder\, a story of personal growth 
 to a life of working for social justice in the south.
DTSTART;TZID=America/New_York:20220109T100000
DTEND;TZID=America/New_York:20220109T120000
END:VEVENT
END:VCALENDAR
