BEGIN:VCALENDAR
PRODID:-//eluceo/ical//2.0/EN
VERSION:2.0
CALSCALE:GREGORIAN
BEGIN:VEVENT
UID:d5aa0ae5da14baf89abbe0ef36616ba5
DTSTAMP:20260422T134809Z
SUMMARY:TES Program: Lex Rofeberg\, co-host of the podcast Judaism Unbound
DESCRIPTION:Jewish Federation of Central Massachusetts\nCalendar\nhttps://j
 ewishcentralmass.org/calendar/tes-program-lex-rofeberg-co-host-of-the-podc
 ast-judaism-unbound\n\nSunday\, Dec. 5 at 10:00 a.m.: Lex Rofeberg\, co-ho
 st of the podcast Judaism Unbound\, presents an interactive class on Judai
 sm...Coming Soon to a Theater Near You: Jewish Pop Culture as Religious Pr
 actice: can watching your favorite TV programs define you as a practicing 
 Jew?
DTSTART;TZID=America/New_York:20211205T100000
DTEND;TZID=America/New_York:20211205T120000
END:VEVENT
END:VCALENDAR
