BEGIN:VCALENDAR
PRODID:-//eluceo/ical//2.0/EN
VERSION:2.0
CALSCALE:GREGORIAN
BEGIN:VEVENT
UID:f448e1a971e71eed560541755f52ab8b
DTSTAMP:20260420T130537Z
SUMMARY:TES Program: Jenna Blum\, author of Woodrow on the Bench
DESCRIPTION:Jewish Federation of Central Massachusetts\nCalendar\nhttps://j
 ewishcentralmass.org/calendar/tes-program-jenna-blum-author-of-woodrow-on-
 the-bench\n\nSunday\, March 6 at 10:00 a.m.: Jenna Blum\, author of Woodro
 w on the Bench\, co-presented with Rabbi Valerie\, about the importance of
  pets and community and their relevance to Judaism. 
DTSTART;TZID=America/New_York:20220306T100000
DTEND;TZID=America/New_York:20220306T120000
END:VEVENT
END:VCALENDAR
