BEGIN:VCALENDAR
PRODID:-//eluceo/ical//2.0/EN
VERSION:2.0
CALSCALE:GREGORIAN
BEGIN:VEVENT
UID:ecdbdaf14c0ec0c881ba1f4f1dadbb29
DTSTAMP:20260423T121800Z
SUMMARY:TES New Board Install
DESCRIPTION:Jewish Federation of Central Massachusetts\nCalendar\nhttps://j
 ewishcentralmass.org/calendar/tes-new-board-install\n\nTES New Board Insta
 ll\n\nhttps://emanuelsinai.org/calendar/
DTSTART;TZID=America/New_York:20210806T170000
DTEND;TZID=America/New_York:20210806T190000
END:VEVENT
END:VCALENDAR
