BEGIN:VCALENDAR
PRODID:-//eluceo/ical//2.0/EN
VERSION:2.0
CALSCALE:GREGORIAN
BEGIN:VEVENT
UID:5b7894fde0e4bbdc0bb8225d0aad875e
DTSTAMP:20260423T044225Z
SUMMARY:TES - Nature hike
DESCRIPTION:Jewish Federation of Central Massachusetts\nCalendar\nhttps://j
 ewishcentralmass.org/calendar/tes-nature-hike\n\nSaturday\, June 2 at 2:00
  pm Nature hike (with some challenging terrain) led by TES congregants 
DTSTART;TZID=America/New_York:20170603T140000
DTEND;TZID=America/New_York:20170603T160000
END:VEVENT
END:VCALENDAR
