BEGIN:VCALENDAR
PRODID:-//eluceo/ical//2.0/EN
VERSION:2.0
CALSCALE:GREGORIAN
BEGIN:VEVENT
UID:67f0d08b13e2360adac108b387be2db8
DTSTAMP:20260421T144943Z
SUMMARY:TES - Lunch & Final Word
DESCRIPTION:Jewish Federation of Central Massachusetts\nCalendar\nhttps://j
 ewishcentralmass.org/calendar/tes-lunch-final-word\n\nSaturday\, June 3 at
  12:15 pm A locally sourced vegetarian lunch (including “assemble your o
 wn mini-pizza” for younger members) with a final word from Rabbi Margali
 t speaking on “From Commodity to Gift: The Power of Blessings.” 
DTSTART;TZID=America/New_York:20170603T121500
DTEND;TZID=America/New_York:20170603T133000
END:VEVENT
END:VCALENDAR
