BEGIN:VCALENDAR
PRODID:-//eluceo/ical//2.0/EN
VERSION:2.0
CALSCALE:GREGORIAN
BEGIN:VEVENT
UID:6cbfa8c9467bdab52a74d114e0f4ebeb
DTSTAMP:20260423T071656Z
SUMMARY:TES Lifelong Learning
DESCRIPTION:Jewish Federation of Central Massachusetts\nCalendar\nhttps://j
 ewishcentralmass.org/calendar/tes-lifelong-learning\n\nTES Lifelong Learni
 ng\n\n9:30 am
DTSTART;TZID=America/New_York:20231119T093000
DTEND;TZID=America/New_York:20231119T113000
END:VEVENT
END:VCALENDAR
