BEGIN:VCALENDAR
PRODID:-//eluceo/ical//2.0/EN
VERSION:2.0
CALSCALE:GREGORIAN
BEGIN:VEVENT
UID:b7337d018333ed97868e800fc5b14305
DTSTAMP:20260420T221947Z
SUMMARY:TES - Last Day Religion School
DESCRIPTION:Jewish Federation of Central Massachusetts\nCalendar\nhttps://j
 ewishcentralmass.org/calendar/tes-last-day-religion-school-2026\n\nTES - L
 ast Day Religion School\n\nTime: TBA
DTSTART;TZID=America/New_York:20260516T100000
DTEND;TZID=America/New_York:20260516T120000
END:VEVENT
END:VCALENDAR
